BEGIN:VCALENDAR
VERSION:2.0
PRODID:-//HSS IITGN
CALSCALE:GREGORIAN
METHOD:PUBLISH
X-WR-CALNAME:HSS IITGN
X-ORIGINAL-URL:https://hss.iitgn.ac.in/k-event/looking-beyond-engineering-education-humanities-and-social-science-program/
X-WR-CALDESC:Looking beyond Engineering Education: Humanities and Social Science Program
BEGIN:VEVENT
DTSTART:
DTEND:
SUMMARY:Looking beyond Engineering Education: Humanities and Social Science Program
DESCRIPTION:
LOCATION:
END:VEVENT
END:VCALENDAR
