BEGIN:VCALENDAR
VERSION:2.0
PRODID:-//HSS IITGN
CALSCALE:GREGORIAN
METHOD:PUBLISH
X-WR-CALNAME:HSS IITGN
X-ORIGINAL-URL:https://hss.iitgn.ac.in/k-event/europe-requiem-for-an-idea/
X-WR-CALDESC:Europe: Requiem For An Idea?
BEGIN:VEVENT
DTSTART:
DTEND:
SUMMARY:Europe: Requiem For An Idea?
DESCRIPTION:Humanities and Social Sciences, IIT Gandhinagar presents a public talk by Mr Huzefa Khalil, Postdoctoral Fellow,
LOCATION:
END:VEVENT
END:VCALENDAR
