BEGIN:VCALENDAR
VERSION:2.0
PRODID:-//HSS IITGN
CALSCALE:GREGORIAN
METHOD:PUBLISH
X-WR-CALNAME:HSS IITGN
X-ORIGINAL-URL:https://hss.iitgn.ac.in/k-event/animal-based-proteomic-and-isotopic-studies-to-reconstruct-their-palaeodiet-provenance-and-husbandry-practices-at-the-harappan-site-of-dholavira-kutch-district-gujarat-india-internal-grant-iitg/
X-WR-CALDESC:Animal-based proteomic and isotopic studies to reconstruct their palaeodiet, provenance and husbandry practices at the Harappan site of Dholavira (Kutch District, Gujarat, India) &#8211; Internal Grant IITGN
BEGIN:VEVENT
DTSTART:
DTEND:
SUMMARY:Animal-based proteomic and isotopic studies to reconstruct their palaeodiet, provenance and husbandry practices at the Harappan site of Dholavira (Kutch District, Gujarat, India) &#8211; Internal Grant IITGN
DESCRIPTION:Studies reconstructing the subsistence of Gujarat Harappans in the mid-Holocene period against the backdrop of climatic changes and tectonic disturbances posit strategies of resilience and adaptation.
LOCATION:
END:VEVENT
END:VCALENDAR
