BEGIN:VCALENDAR
VERSION:2.0
PRODID:-//HSS IITGN
CALSCALE:GREGORIAN
METHOD:PUBLISH
X-WR-CALNAME:HSS IITGN
X-ORIGINAL-URL:https://hss.iitgn.ac.in/k-event/lecture-on-viewing-ceramic-thin-sections-methods-and-prospects/
X-WR-CALDESC:Lecture on “Viewing Ceramic Thin-sections: Methods and Prospects”
BEGIN:VEVENT
DTSTART:
DTEND:
SUMMARY:Lecture on “Viewing Ceramic Thin-sections: Methods and Prospects”
DESCRIPTION:
LOCATION:
END:VEVENT
END:VCALENDAR
