BEGIN:VCALENDAR
VERSION:2.0
PRODID:-//HSS IITGN
CALSCALE:GREGORIAN
METHOD:PUBLISH
X-WR-CALNAME:HSS IITGN
X-ORIGINAL-URL:https://hss.iitgn.ac.in/k-event/what-is-political-theology-a-talk-by-prof-saitya-brata-das/
X-WR-CALDESC:&#8216;What is Political Theology&#8217;: A Talk by Prof. Saitya Brata Das
BEGIN:VEVENT
DTSTART:
DTEND:
SUMMARY:&#8216;What is Political Theology&#8217;: A Talk by Prof. Saitya Brata Das
DESCRIPTION:
LOCATION:
END:VEVENT
END:VCALENDAR
